BEGIN:VCALENDAR
PRODID:-//PUBBLE//agenda//NL
VERSION:2.0
METHOD:PUBLISH
BEGIN:VEVENT
DTSTART:20240218T120000Z
DTEND:20240218T130000Z
DTSTAMP:20260420T135205Z
UID:fb70de94-a708-4224-bcf6-0acca2f5fa83
CREATED:20260420T135205Z
NAME:Gaëtane zingt Barbara soestercourant.nl
X-WR-CALNAME:Gaëtane zingt Barbara
X-ALT-DESC;FMTTYPE=text/html:<a href='/agenda/2024/2/18/gaetane-zingt-barbara-1006444'>/agenda/2024/2/18/gaetane-zingt-barbara-1006444</a> || <p>De Belgische danseres en actrice Gaëtane Bouchez speelt na Chansons du temps perdu haar tweede tour de chant: Gaëtane zingt Barbara, over het bewogen leven van de grote chansonnière Barbara. Zij wordt daarbij op piano begeleid door de jonge Noëmi Schermann. Reserveren: hermanvanveenartscenter.com</p>
DESCRIPTION:<a href='/agenda/2024/2/18/gaetane-zingt-barbara-1006444'>/agenda/2024/2/18/gaetane-zingt-barbara-1006444</a> || <p>De Belgische danseres en actrice Gaëtane Bouchez speelt na Chansons du temps perdu haar tweede tour de chant: Gaëtane zingt Barbara, over het bewogen leven van de grote chansonnière Barbara. Zij wordt daarbij op piano begeleid door de jonge Noëmi Schermann. Reserveren: hermanvanveenartscenter.com</p>
LAST-MODIFIED:20260420T135205Z
LOCATION: Herman van Veen Arts Center | Landgoed De Paltz 1 Soest
SEQUENCE:0
STATUS:CONFIRMED
SUMMARY:Gaëtane zingt Barbara
TRANSP:OPAQUE
END:VEVENT
END:VCALENDAR
